BEGIN:VCALENDAR
VERSION:2.0
PRODID:-//Münchner Jägerverein - ECPv6.15.14//NONSGML v1.0//EN
CALSCALE:GREGORIAN
METHOD:PUBLISH
X-ORIGINAL-URL:https://muenchner-jaegerverein.com
X-WR-CALDESC:Veranstaltungen für Münchner Jägerverein
REFRESH-INTERVAL;VALUE=DURATION:PT1H
X-Robots-Tag:noindex
X-PUBLISHED-TTL:PT1H
BEGIN:VTIMEZONE
TZID:Europe/Berlin
BEGIN:DAYLIGHT
TZOFFSETFROM:+0100
TZOFFSETTO:+0200
TZNAME:CEST
DTSTART:20240331T010000
END:DAYLIGHT
BEGIN:STANDARD
TZOFFSETFROM:+0200
TZOFFSETTO:+0100
TZNAME:CET
DTSTART:20241027T010000
END:STANDARD
BEGIN:DAYLIGHT
TZOFFSETFROM:+0100
TZOFFSETTO:+0200
TZNAME:CEST
DTSTART:20250330T010000
END:DAYLIGHT
BEGIN:STANDARD
TZOFFSETFROM:+0200
TZOFFSETTO:+0100
TZNAME:CET
DTSTART:20251026T010000
END:STANDARD
BEGIN:DAYLIGHT
TZOFFSETFROM:+0100
TZOFFSETTO:+0200
TZNAME:CEST
DTSTART:20260329T010000
END:DAYLIGHT
BEGIN:STANDARD
TZOFFSETFROM:+0200
TZOFFSETTO:+0100
TZNAME:CET
DTSTART:20261025T010000
END:STANDARD
END:VTIMEZONE
BEGIN:VEVENT
DTSTART;TZID=Europe/Berlin:20250204T190000
DTEND;TZID=Europe/Berlin:20250204T210000
DTSTAMP:20260421T124046
CREATED:20250120T172102Z
LAST-MODIFIED:20250120T172102Z
UID:1269-1738695600-1738702800@muenchner-jaegerverein.com
SUMMARY:Vortragsveranstaltung: Neues zum Waffenrecht
DESCRIPTION:Da sich das Waffenrecht erneut geändert hat und für uns Jäger strenger geworden ist\, bringt uns RA Dr. Michael Pießkalla\, Mitglied im Vereinsausschuss\, auf den aktuellsten Stand. \nVerschiedene Veröffentlichungen zur Gesetzesänderung enthalten Beschwichtigungen und Fehleinschätzungen zur Rechtslage.  Aber im Alltag eines Jägers gibt es die unterschiedlichsten Situationen\, in denen Fallstricke lauern. Schon kleinste Unachtsamkeiten können zum Verlust der Zuverlässigkeit und damit des Jagdscheins führen. \nGrund genug\, das „Sicherheitspaket“ noch einmal nüchtern durchzugehen und bei dieser Gelegenheit einige aktuelle Entscheidungen der Verwaltungsgerichte zum Waffenrecht – auch erfreuliche – vorzustellen.
URL:https://muenchner-jaegerverein.com/event/vortragsveranstaltung-neues-zum-waffenrecht/
LOCATION:Gasthof Poseidon Unterdill\, Forstenrieder Allee 327\, München\, 81476\, Deutschland
ATTACH;FMTTYPE=image/jpeg:https://muenchner-jaegerverein.com/wp-content/uploads/2023/09/iStock-965458476.jpg
END:VEVENT
END:VCALENDAR